BEGIN:VCALENDAR
VERSION:2.0
PRODID:-//INRIA//AI4IDF//NONSGML kigkonsult.se iCalcreator 2.41.92//
CALSCALE:GREGORIAN
METHOD:PUBLISH
UID:39636263-6638-4337-b434-663666393864
X-WR-CALNAME:INRIA//AI4IDF
X-WR-TIMEZONE:Europe/Paris
BEGIN:VTIMEZONE
TZID:Europe/Paris
TZUNTIL:20261025T010000Z
BEGIN:STANDARD
TZNAME:CET
DTSTART:20241027T030000
TZOFFSETFROM:+0200
TZOFFSETTO:+0100
RDATE:20251026T030000
END:STANDARD
BEGIN:DAYLIGHT
TZNAME:CEST
DTSTART:20240331T020000
TZOFFSETFROM:+0100
TZOFFSETTO:+0200
RDATE:20250330T020000
RDATE:20260329T020000
END:DAYLIGHT
END:VTIMEZONE
BEGIN:VEVENT
UID:65616531-6261-4534-a465-383537666431
DTSTAMP:20260423T203317Z
CLASS:PUBLIC
DESCRIPTION:Speaker: Ryan Chikhi\, PRAIRIE/Institut Pasteur\, CNRS – Resear
 ch director Department of Computational Biology. ABSTRACT Petabytes of val
 uable DNA sequencing data reside in public repositories\,doubling...\n\nMo
 re information\nhttps://ai4idf.fr/events/view/p84220b73e92d46b4457\n\nLink
 \nhttps://prairie-institute.fr/evenement/planetary-scale-sequencing-data-a
 nalysis-surveys-lifes-diversity/
DTSTART;TZID=Europe/Paris:20241217T140000
DTEND;TZID=Europe/Paris:20241217T150000
LOCATION:Online
SEQUENCE:1
SUMMARY:Colloquium PR[AI]RIE - Planetary-Scale Sequencing Data Analysis Sur
 veys Life’s Diversity
TRANSP:OPAQUE
URL:https://ai4idf.fr/events/view/p84220b73e92d46b4457
END:VEVENT
END:VCALENDAR
